BEGIN:VCALENDAR
VERSION:2.0
PRODID:-//hacksw/handcal//NONSGML v1.0//EN
BEGIN:VEVENT
SUMMARY:Animation Renardo Kano
UID:40253dad-eede-46f3-bc7e-4ecdd4374e38
DTSTART:20260328T150000Z
DTEND:20260328T173000Z
LOCATION:Localisation 112 Rue de Chartres 28800 Bonneval
CATEGORIES:Sportif
STATUS:
DESCRIPTION:<p style="text-align:center;"><span
 style="font-size:18px;"><strong><span style="color:#c0392b;">3eme
 Animation Renardo Kano</span></strong></span></p>
 
 <p
 style="text-align:center;"><span style="font-size:14px;"> Samedi 28
 Mars 2026<br>
 Mini-poussins nes en 2018 et
 2019<br>
 Bonneval</span></p>
 
 <h4><span
 style="font-size:14px;">PROGRAMME DE
 L'ANIMATION</span><br>
  </h4>
 
 <ul>
 	<li><span
 style="font-size:14px;"><strong>16h00 a
 16h30</strong> pesee</span></li>
 	<li><span
 style="font-size:14px;"><strong>16h35</strong> echauffement en
 commun</span></li>
 	<li><span
 style="font-size:14px;"><strong>16h45</strong> ateliers
 techniques</span></li>
 	<li><span
 style="font-size:14px;"><strong>17h15</strong> randoris educatifs
 arbitres</span></li>
 	<li><span
 style="font-size:14px;"><strong>18h15</strong> retour sur la culture
 judo "mondo"</span></li>
 	<li><span
 style="font-size:14px;"><strong>18h30</strong> remise de l'ecusson
 renardo kano</span></li>
 </ul>
 
 <p><span style="font-size:14px;">Le
 questionnaire sera rempli au club.</span></p>
 
 <p><span
 style="font-size:14px;">Sportivement, l'equipe du judo club
 cloysien.</span></p>
URL;VALUE=URI:https://www.judoclubcloysien.com/evenements/2026/03/28/animation-renardo-kano-2427193
END:VEVENT
END:VCALENDAR
