BEGIN:VCALENDAR
VERSION:2.0
PRODID:-//hacksw/handcal//NONSGML v1.0//EN
BEGIN:VEVENT
SUMMARY:Stage departemental
UID:f88b3cdc-208e-4624-9d9c-ddeb18a8bcaf
DTSTART:20260327T230000Z
DTEND:20260328T230000Z
LOCATION:Localisation 112 Rue de Chartres 28000 Bonneval
CATEGORIES:Sportif
STATUS:
DESCRIPTION:<p style="text-align:center;"><strong>Samedi 28
 Mars</strong></p>
 
 <p style="text-align:center;"><strong>Stage
 departemental Benjamins, Minimes et Cadets</strong></p>
 
 <p
 style="text-align:center;"><strong>Horaire :</strong> 10h30 a
 18h30</p>
 
 <p><strong>Programme : </strong><br>
 <strong>Le matin
 : </strong>stage judo technique, randoris et initiation
 arbitrage<br>
 <strong>Prevoir un pique nique pour le
 midi</strong><br>
 <strong>L'apres midi :</strong> arbitrage de
 l'animation samourais et renardo</p>
 
 <p><strong>Lieu
 : </strong><br>
 Bonneval : 112 Rue de Chartres, 28800
 Bonneval</p>
 
 <p>Rappel ce stage permet un bonus de 10 points au
 classement JEC</p>
 
 <p>Sportivement, </p>
 
 <p>l'equipe du judo club
 cloysien</p>
 
 <p> </p>
URL;VALUE=URI:https://www.judoclubcloysien.com/evenements/2026/03/28/stage-departemental-2427206
END:VEVENT
END:VCALENDAR
