BEGIN:VCALENDAR
VERSION:2.0
PRODID:-//hacksw/handcal//NONSGML v1.0//EN
BEGIN:VEVENT
SUMMARY:Tournoi club Bonneval
UID:a1d045a1-ea22-4e3a-8bc5-e2dbcf0f33ec
DTSTART:20260529T220000Z
DTEND:20260530T220000Z
LOCATION:Localisation   
CATEGORIES:Sportif
STATUS:
URL;VALUE=URI:https://www.judoclubcloysien.com/evenements/2026/05/30/tournoi-club-bonneval-2427236
END:VEVENT
END:VCALENDAR
